BEGIN:VCALENDAR
VERSION:2.0
PRODID:-//eventon.com NONSGML v1.0//EN
CALSCALE:GREGORIAN
METHOD:PUBLISH
BEGIN:VEVENT
UID:69e73953b381a
DTSTAMP:20260421T084611Z
DTSTART:20250612T230000Z
DTEND:20250613T225900Z
LOCATION:
SUMMARY:INSET Day
DESCRIPTION:INSET Day\nhttps://saracensbf.org/events/inset-day-2/
URL:https://saracensbf.org/events/inset-day-2/
END:VEVENT
END:VCALENDAR