BEGIN:VCALENDAR
VERSION:2.0
PRODID:-//eventon.com NONSGML v1.0//EN
CALSCALE:GREGORIAN
METHOD:PUBLISH
BEGIN:VEVENT
UID:69e5f35cd1df0
DTSTAMP:20260420T093524Z
DTSTART:20250420T230000Z
DTEND:20250421T225900Z
LOCATION:
SUMMARY:School Reopens for the Summer Term
DESCRIPTION:School Reopens for the Summer Term\nhttps://saracensbf.org/even
 ts/school-reopens-for-the-summer-term/
URL:https://saracensbf.org/events/school-reopens-for-the-summer-term/
END:VEVENT
END:VCALENDAR