BEGIN:VCALENDAR
VERSION:2.0
PRODID:-//eventon.com NONSGML v1.0//EN
CALSCALE:GREGORIAN
METHOD:PUBLISH
BEGIN:VEVENT
UID:69e73775e2362
DTSTAMP:20260421T083813Z
DTSTART:20250324T000000Z
DTEND:20250328T235900Z
LOCATION:
SUMMARY:Assessment Week
DESCRIPTION:Assessment Week\nhttps://saracensbf.org/events/assessment-week/
URL:https://saracensbf.org/events/assessment-week/
END:VEVENT
END:VCALENDAR