BEGIN:VCALENDAR
VERSION:2.0
PRODID:-//eventon.com NONSGML v1.0//EN
CALSCALE:GREGORIAN
METHOD:PUBLISH
BEGIN:VEVENT
UID:69ecc2f43b7c2
DTSTAMP:20260425T133444Z
DTSTART:20250115T000000Z
DTEND:20250115T235900Z
LOCATION:
SUMMARY:Year 6 Out RAF Museum- Wartime classroom
DESCRIPTION:Year 6 Out RAF Museum- Wartime classroom\nhttps://saracensbf.or
 g/events/year-6-out-raf-museum-wartime-classroom/
URL:https://saracensbf.org/events/year-6-out-raf-museum-wartime-classroom/
END:VEVENT
END:VCALENDAR