BEGIN:VCALENDAR
VERSION:2.0
PRODID:-//eventon.com NONSGML v1.0//EN
CALSCALE:GREGORIAN
METHOD:PUBLISH
BEGIN:VEVENT
UID:69e9e2a7a5cf1
DTSTAMP:20260423T091311Z
DTSTART:20250106T000000Z
DTEND:20250106T235900Z
LOCATION:
SUMMARY:School reopens for Spring Term
DESCRIPTION:School reopens for Spring Term\nhttps://saracensbf.org/events/s
 chool-reopens-for-spring-term/
URL:https://saracensbf.org/events/school-reopens-for-spring-term/
END:VEVENT
END:VCALENDAR