BEGIN:VCALENDAR
VERSION:2.0
PRODID:-//eventon.com NONSGML v1.0//EN
CALSCALE:GREGORIAN
METHOD:PUBLISH
BEGIN:VEVENT
UID:69e750b2b240c
DTSTAMP:20260421T102554Z
DTSTART:20241223T000000Z
DTEND:20250105T235900Z
LOCATION:
SUMMARY:Christmas Holidays
DESCRIPTION:Christmas Holidays\nhttps://saracensbf.org/events/christmas-hol
 idays/
URL:https://saracensbf.org/events/christmas-holidays/
END:VEVENT
END:VCALENDAR