BEGIN:VCALENDAR
VERSION:2.0
PRODID:-//eventon.com NONSGML v1.0//EN
CALSCALE:GREGORIAN
METHOD:PUBLISH
BEGIN:VEVENT
UID:69e77b277f314
DTSTAMP:20260421T132703Z
DTSTART:20241220T000000Z
DTEND:20241220T235900Z
LOCATION:
SUMMARY:End of Autumn Term - Break up for Christmas Holidays
DESCRIPTION:End of Autumn Term - Break up for Christmas Holidays\nhttps://s
 aracensbf.org/events/end-of-autumn-term-break-up-for-christmas-holidays/
URL:https://saracensbf.org/events/end-of-autumn-term-break-up-for-christmas-holidays/
END:VEVENT
END:VCALENDAR