BEGIN:VCALENDAR
VERSION:2.0
PRODID:-//eventon.com NONSGML v1.0//EN
CALSCALE:GREGORIAN
METHOD:PUBLISH
BEGIN:VEVENT
UID:69e9f73410732
DTSTAMP:20260423T104052Z
DTSTART:20241219T000000Z
DTEND:20241219T235900Z
LOCATION:
SUMMARY:Nursery Closes for the holidays
DESCRIPTION:Nursery Closes for the holidays\nhttps://saracensbf.org/events/
 nursery-closes-for-the-holidays/
URL:https://saracensbf.org/events/nursery-closes-for-the-holidays/
END:VEVENT
END:VCALENDAR