BEGIN:VCALENDAR
VERSION:2.0
PRODID:-//eventon.com NONSGML v1.0//EN
CALSCALE:GREGORIAN
METHOD:PUBLISH
BEGIN:VEVENT
UID:69e89079d2fb7
DTSTAMP:20260422T091017Z
DTSTART:20240926T143000Z
DTEND:20240926T150000Z
LOCATION:
SUMMARY:Reception Curriculum Evening 3:30 - 4
DESCRIPTION:Join with Google Meet:\nhttps://saracensbf.org/events/reception
 -curriculum-evening-330-4/
URL:https://saracensbf.org/events/reception-curriculum-evening-330-4/
END:VEVENT
END:VCALENDAR